{
 "currentVersion": 11.4,
 "serviceDescription": "Falmouth Imagery 2006",
 "name": "Imagery/Falmouth_Imagery_2006",
 "description": "Falmouth Imagery 2006",
 "extent": {
  "xmin": 2899000.169262,
  "ymin": 307999.897412,
  "xmax": 2950000.169262,
  "ymax": 357999.897412,
  "spatialReference": {
   "wkid": 102684,
   "latestWkid": 26848
  }
 },
 "initialExtent": {
  "xmin": 2899000.169262,
  "ymin": 307999.897412,
  "xmax": 2950000.169262,
  "ymax": 357999.897412,
  "spatialReference": {
   "wkid": 102684,
   "latestWkid": 26848
  }
 },
 "fullExtent": {
  "xmin": 2899000.169262,
  "ymin": 307999.897412,
  "xmax": 2950000.169262,
  "ymax": 357999.897412,
  "spatialReference": {
   "wkid": 102684,
   "latestWkid": 26848
  }
 },
 "sortableFields": "",
 "bandCount": 3,
 "pixelType": "U8",
 "minValues": [
  13,
  20,
  16
 ],
 "maxValues": [
  255,
  255,
  255
 ],
 "meanValues": [
  182.53459183673,
  184.50969387755,
  176.23663265306
 ],
 "stdvValues": [
  77.013204720775,
  74.611980680925,
  82.957432069705
 ],
 "hasMultidimensions": false,
 "pixelSizeX": 0.5,
 "pixelSizeY": 0.5,
 "meanPixelSize": 0.15240030480060962,
 "datasetFormat": "MrSID",
 "uncompressedSize": 30600000000,
 "blockWidth": 1024,
 "blockHeight": 128,
 "compressionType": "Wavelet (MG3)",
 "bandNames": [
  "Band_1",
  "Band_2",
  "Band_3"
 ],
 "allowCopy": true,
 "allowAnalysis": true,
 "itemAccess": false,
 "inspectionCapabilities": "",
 "minPixelSize": 0,
 "maxPixelSize": 0,
 "copyrightText": "",
 "serviceDataType": "esriImageServiceDataTypeRGB",
 "serviceSourceType": "esriImageServiceSourceTypeDataset",
 "objectIdField": "",
 "fields": [],
 "capabilities": "Image,Metadata,Mensuration",
 "defaultMosaicMethod": "Center",
 "allowedMosaicMethods": "",
 "sortField": "",
 "sortValue": null,
 "sortAscending": true,
 "mosaicOperator": "First",
 "defaultCompressionQuality": 75,
 "defaultResamplingMethod": "Bilinear",
 "maxImageHeight": 4100,
 "maxImageWidth": 15000,
 "allowRasterFunction": true,
 "rasterFunctionInfos": [
  {
   "name": "None",
   "description": "",
   "help": ""
  }
 ],
 "rasterTypeInfos": [
  {
   "name": "Raster Dataset",
   "description": "Supports all ArcGIS Raster Datasets",
   "help": ""
  }
 ],
 "mensurationCapabilities": "Basic",
 "hasHistograms": true,
 "hasColormap": false,
 "hasRasterAttributeTable": false,
 "minScale": 0,
 "maxScale": 0,
 "exportTilesAllowed": false,
 "supportsStatistics": false,
 "supportsAdvancedQueries": false,
 "editFieldsInfo": null,
 "ownershipBasedAccessControlForRasters": null,
 "allowComputeTiePoints": false,
 "useStandardizedQueries": true,
 "advancedQueryCapabilities": {
  "useStandardizedQueries": true,
  "supportsStatistics": false,
  "supportsOrderBy": false,
  "supportsDistinct": false,
  "supportsPagination": false
 },
 "spatialReference": {
  "wkid": 102684,
  "latestWkid": 26848
 }
}
