{
 "currentVersion": 11.4,
 "serviceDescription": "Falmouth Imagery 2012",
 "name": "Imagery/Falmouth_Imagery_2012",
 "description": "Falmouth Imagery 2012",
 "extent": {
  "xmin": 2900998,
  "ymin": 310498,
  "xmax": 2944502,
  "ymax": 357000,
  "spatialReference": {
   "wkid": 102684,
   "latestWkid": 26848
  }
 },
 "initialExtent": {
  "xmin": 2900998,
  "ymin": 310498,
  "xmax": 2944502,
  "ymax": 357000,
  "spatialReference": {
   "wkid": 102684,
   "latestWkid": 26848
  }
 },
 "fullExtent": {
  "xmin": 2900998,
  "ymin": 310498,
  "xmax": 2944502,
  "ymax": 357000,
  "spatialReference": {
   "wkid": 102684,
   "latestWkid": 26848
  }
 },
 "sortableFields": "",
 "bandCount": 3,
 "pixelType": "U8",
 "minValues": [
  0,
  0,
  0
 ],
 "maxValues": [
  255,
  255,
  255
 ],
 "meanValues": [
  173.14647705236,
  174.0130575307,
  163.09217840983
 ],
 "stdvValues": [
  85.420816212849,
  83.833546780299,
  93.762617699863
 ],
 "hasMultidimensions": false,
 "pixelSizeX": 0.25,
 "pixelSizeY": 0.25,
 "meanPixelSize": 0.07620015240030481,
 "datasetFormat": "MrSID",
 "uncompressedSize": 97105104384,
 "blockWidth": 1024,
 "blockHeight": 128,
 "compressionType": "Wavelet (MG3)",
 "bandNames": [
  "Band_1",
  "Band_2",
  "Band_3"
 ],
 "allowCopy": true,
 "allowAnalysis": true,
 "itemAccess": false,
 "inspectionCapabilities": "",
 "minPixelSize": 0,
 "maxPixelSize": 0,
 "copyrightText": "",
 "serviceDataType": "esriImageServiceDataTypeRGB",
 "serviceSourceType": "esriImageServiceSourceTypeDataset",
 "objectIdField": "",
 "fields": [],
 "capabilities": "Image,Metadata,Mensuration",
 "defaultMosaicMethod": "Center",
 "allowedMosaicMethods": "",
 "sortField": "",
 "sortValue": null,
 "sortAscending": true,
 "mosaicOperator": "First",
 "defaultCompressionQuality": 75,
 "defaultResamplingMethod": "Bilinear",
 "maxImageHeight": 4100,
 "maxImageWidth": 15000,
 "allowRasterFunction": true,
 "rasterFunctionInfos": [
  {
   "name": "None",
   "description": "",
   "help": ""
  }
 ],
 "rasterTypeInfos": [
  {
   "name": "Raster Dataset",
   "description": "Supports all ArcGIS Raster Datasets",
   "help": ""
  }
 ],
 "mensurationCapabilities": "Basic",
 "hasHistograms": true,
 "hasColormap": false,
 "hasRasterAttributeTable": false,
 "minScale": 0,
 "maxScale": 0,
 "exportTilesAllowed": false,
 "supportsStatistics": false,
 "supportsAdvancedQueries": false,
 "editFieldsInfo": null,
 "ownershipBasedAccessControlForRasters": null,
 "allowComputeTiePoints": false,
 "useStandardizedQueries": true,
 "advancedQueryCapabilities": {
  "useStandardizedQueries": true,
  "supportsStatistics": false,
  "supportsOrderBy": false,
  "supportsDistinct": false,
  "supportsPagination": false
 },
 "spatialReference": {
  "wkid": 102684,
  "latestWkid": 26848
 }
}
