{
 "currentVersion": 11.4,
 "serviceDescription": "Falmouth Imagery 2017",
 "name": "Imagery/Falmouth_Imagery_2017",
 "description": "Falmouth Imagery 2017",
 "extent": {
  "xmin": 2901250,
  "ymin": 310000,
  "xmax": 2948750,
  "ymax": 356250,
  "spatialReference": {
   "wkid": 26856,
   "latestWkid": 26856
  }
 },
 "initialExtent": {
  "xmin": 2901250,
  "ymin": 310000,
  "xmax": 2948750,
  "ymax": 356250,
  "spatialReference": {
   "wkid": 26856,
   "latestWkid": 26856
  }
 },
 "fullExtent": {
  "xmin": 2901250,
  "ymin": 310000,
  "xmax": 2948750,
  "ymax": 356250,
  "spatialReference": {
   "wkid": 26856,
   "latestWkid": 26856
  }
 },
 "sortableFields": "",
 "bandCount": 5,
 "pixelType": "U8",
 "minValues": [
  0,
  0,
  0,
  0,
  0
 ],
 "maxValues": [
  255,
  255,
  255,
  255,
  255
 ],
 "meanValues": [
  182.62188349285,
  183.19555713104,
  173.87533971405,
  188.19981094175,
  112.63476308638
 ],
 "stdvValues": [
  81.661937922772,
  80.682085271286,
  90.846307440056,
  75.780605173678,
  125.36952543453
 ],
 "hasMultidimensions": false,
 "pixelSizeX": 0.25,
 "pixelSizeY": 0.25,
 "meanPixelSize": 0.07620015240030481,
 "datasetFormat": "MrSID",
 "uncompressedSize": 175750000000,
 "blockWidth": 1024,
 "blockHeight": 128,
 "compressionType": "Wavelet (MG4)",
 "bandNames": [
  "Band_1",
  "Band_2",
  "Band_3",
  "Band_4",
  "Band_5"
 ],
 "allowCopy": true,
 "allowAnalysis": true,
 "itemAccess": false,
 "inspectionCapabilities": "",
 "minPixelSize": 0,
 "maxPixelSize": 0,
 "copyrightText": "",
 "serviceDataType": "esriImageServiceDataTypeGeneric",
 "serviceSourceType": "esriImageServiceSourceTypeDataset",
 "objectIdField": "",
 "fields": [],
 "capabilities": "Image,Metadata,Mensuration",
 "defaultMosaicMethod": "Center",
 "allowedMosaicMethods": "",
 "sortField": "",
 "sortValue": null,
 "sortAscending": true,
 "mosaicOperator": "First",
 "defaultCompressionQuality": 75,
 "defaultResamplingMethod": "Bilinear",
 "maxImageHeight": 4100,
 "maxImageWidth": 15000,
 "allowRasterFunction": true,
 "rasterFunctionInfos": [
  {
   "name": "None",
   "description": "",
   "help": ""
  }
 ],
 "rasterTypeInfos": [
  {
   "name": "Raster Dataset",
   "description": "Supports all ArcGIS Raster Datasets",
   "help": ""
  }
 ],
 "mensurationCapabilities": "Basic",
 "hasHistograms": true,
 "hasColormap": false,
 "hasRasterAttributeTable": false,
 "minScale": 0,
 "maxScale": 0,
 "exportTilesAllowed": false,
 "supportsStatistics": false,
 "supportsAdvancedQueries": false,
 "editFieldsInfo": null,
 "ownershipBasedAccessControlForRasters": null,
 "allowComputeTiePoints": false,
 "useStandardizedQueries": true,
 "advancedQueryCapabilities": {
  "useStandardizedQueries": true,
  "supportsStatistics": false,
  "supportsOrderBy": false,
  "supportsDistinct": false,
  "supportsPagination": false
 },
 "spatialReference": {
  "wkid": 26856,
  "latestWkid": 26856
 }
}
