View In:
ArcGIS JavaScript
ArcGIS Online Map Viewer
ArcGIS Earth
Service Description: Falmouth Imagery 2006
Name: Imagery/Falmouth_Imagery_2006
Description: Falmouth Imagery 2006
Single Fused Map Cache: false
Extent:
XMin: 2899000.169262
YMin: 307999.897412
XMax: 2950000.169262
YMax: 357999.897412
Spatial Reference: 102684
(26848)
LatestVCSWkid(0)
Initial Extent:
XMin: 2899000.169262
YMin: 307999.897412
XMax: 2950000.169262
YMax: 357999.897412
Spatial Reference: 102684
(26848)
LatestVCSWkid(0)
Full Extent:
XMin: 2899000.169262
YMin: 307999.897412
XMax: 2950000.169262
YMax: 357999.897412
Spatial Reference: 102684
(26848)
LatestVCSWkid(0)
Pixel Size X: 0.5
Pixel Size Y: 0.5
Band Count: 3
Pixel Type: U8
RasterFunction Infos: {"rasterFunctionInfos": [{
"name": "None",
"description": "",
"help": ""
}]}
Mensuration Capabilities: Basic
Inspection Capabilities:
Has Histograms: true
Has Colormap: false
Has Multi Dimensions : false
Rendering Rule:
Min Scale: 0
Max Scale: 0
Copyright Text:
Service Data Type: esriImageServiceDataTypeRGB
Min Values: 13, 20, 16
Max Values: 255, 255, 255
Mean Values: 182.53459183673, 184.50969387755, 176.23663265306
Standard Deviation Values: 77.013204720775, 74.611980680925, 82.957432069705
Object ID Field:
Fields:
None
Default Mosaic Method: Center
Allowed Mosaic Methods:
SortField:
SortValue: null
Mosaic Operator: First
Default Compression Quality: 75
Default Resampling Method: Bilinear
Max Record Count: null
Max Image Height: 4100
Max Image Width: 15000
Max Download Image Count: null
Max Mosaic Image Count: null
Allow Raster Function: true
Allow Copy: true
Allow Analysis: true
Allow Compute TiePoints: false
Supports Statistics: false
Supports Advanced Queries: false
Use StandardizedQueries: true
Raster Type Infos:
Name: Raster Dataset
Description: Supports all ArcGIS Raster Datasets
Help:
Has Raster Attribute Table: false
Edit Fields Info: null
Ownership Based AccessControl For Rasters: null
Child Resources:
Info
Histograms
Statistics
Key Properties
Legend
Raster Function Infos
Supported Operations:
Export Image
Identify
Measure
Compute Histograms
Compute Statistics Histograms
Get Samples
Compute Class Statistics
Query Boundary
Compute Pixel Location
Compute Angles
Validate
Project