View In:
ArcGIS JavaScript
ArcGIS Online Map Viewer
ArcGIS Earth
Service Description: Falmouth Imagery 2012
Name: Imagery/Falmouth_Imagery_2012
Description: Falmouth Imagery 2012
Single Fused Map Cache: false
Extent:
XMin: 2900998.0
YMin: 310498.0
XMax: 2944502.0
YMax: 357000.0
Spatial Reference: 102684
(26848)
LatestVCSWkid(0)
Initial Extent:
XMin: 2900998.0
YMin: 310498.0
XMax: 2944502.0
YMax: 357000.0
Spatial Reference: 102684
(26848)
LatestVCSWkid(0)
Full Extent:
XMin: 2900998.0
YMin: 310498.0
XMax: 2944502.0
YMax: 357000.0
Spatial Reference: 102684
(26848)
LatestVCSWkid(0)
Pixel Size X: 0.25
Pixel Size Y: 0.25
Band Count: 3
Pixel Type: U8
RasterFunction Infos: {"rasterFunctionInfos": [{
"name": "None",
"description": "",
"help": ""
}]}
Mensuration Capabilities: Basic
Inspection Capabilities:
Has Histograms: true
Has Colormap: false
Has Multi Dimensions : false
Rendering Rule:
Min Scale: 0
Max Scale: 0
Copyright Text:
Service Data Type: esriImageServiceDataTypeRGB
Min Values: 0, 0, 0
Max Values: 255, 255, 255
Mean Values: 173.14647705236, 174.0130575307, 163.09217840983
Standard Deviation Values: 85.420816212849, 83.833546780299, 93.762617699863
Object ID Field:
Fields:
None
Default Mosaic Method: Center
Allowed Mosaic Methods:
SortField:
SortValue: null
Mosaic Operator: First
Default Compression Quality: 75
Default Resampling Method: Bilinear
Max Record Count: null
Max Image Height: 4100
Max Image Width: 15000
Max Download Image Count: null
Max Mosaic Image Count: null
Allow Raster Function: true
Allow Copy: true
Allow Analysis: true
Allow Compute TiePoints: false
Supports Statistics: false
Supports Advanced Queries: false
Use StandardizedQueries: true
Raster Type Infos:
Name: Raster Dataset
Description: Supports all ArcGIS Raster Datasets
Help:
Has Raster Attribute Table: false
Edit Fields Info: null
Ownership Based AccessControl For Rasters: null
Child Resources:
Info
Histograms
Statistics
Key Properties
Legend
Raster Function Infos
Supported Operations:
Export Image
Identify
Measure
Compute Histograms
Compute Statistics Histograms
Get Samples
Compute Class Statistics
Query Boundary
Compute Pixel Location
Compute Angles
Validate
Project