View In:
ArcGIS JavaScript
ArcGIS Online Map Viewer
ArcGIS Earth
Service Description: Falmouth Imagery 2017
Name: Imagery/Falmouth_Imagery_2017
Description: Falmouth Imagery 2017
Single Fused Map Cache: false
Extent:
XMin: 2901250.0
YMin: 310000.0
XMax: 2948750.0
YMax: 356250.0
Spatial Reference: 26856
(26856)
LatestVCSWkid(0)
Initial Extent:
XMin: 2901250.0
YMin: 310000.0
XMax: 2948750.0
YMax: 356250.0
Spatial Reference: 26856
(26856)
LatestVCSWkid(0)
Full Extent:
XMin: 2901250.0
YMin: 310000.0
XMax: 2948750.0
YMax: 356250.0
Spatial Reference: 26856
(26856)
LatestVCSWkid(0)
Pixel Size X: 0.25
Pixel Size Y: 0.25
Band Count: 5
Pixel Type: U8
RasterFunction Infos: {"rasterFunctionInfos": [{
"name": "None",
"description": "",
"help": ""
}]}
Mensuration Capabilities: Basic
Inspection Capabilities:
Has Histograms: true
Has Colormap: false
Has Multi Dimensions : false
Rendering Rule:
Min Scale: 0
Max Scale: 0
Copyright Text:
Service Data Type: esriImageServiceDataTypeGeneric
Min Values: 0, 0, 0, 0, 0
Max Values: 255, 255, 255, 255, 255
Mean Values: 182.62188349285, 183.19555713104, 173.87533971405, 188.19981094175, 112.63476308638
Standard Deviation Values: 81.661937922772, 80.682085271286, 90.846307440056, 75.780605173678, 125.36952543453
Object ID Field:
Fields:
None
Default Mosaic Method: Center
Allowed Mosaic Methods:
SortField:
SortValue: null
Mosaic Operator: First
Default Compression Quality: 75
Default Resampling Method: Bilinear
Max Record Count: null
Max Image Height: 4100
Max Image Width: 15000
Max Download Image Count: null
Max Mosaic Image Count: null
Allow Raster Function: true
Allow Copy: true
Allow Analysis: true
Allow Compute TiePoints: false
Supports Statistics: false
Supports Advanced Queries: false
Use StandardizedQueries: true
Raster Type Infos:
Name: Raster Dataset
Description: Supports all ArcGIS Raster Datasets
Help:
Has Raster Attribute Table: false
Edit Fields Info: null
Ownership Based AccessControl For Rasters: null
Child Resources:
Info
Histograms
Statistics
Key Properties
Legend
Raster Function Infos
Supported Operations:
Export Image
Identify
Measure
Compute Histograms
Compute Statistics Histograms
Get Samples
Compute Class Statistics
Query Boundary
Compute Pixel Location
Compute Angles
Validate
Project